BEGIN:VCALENDAR
VERSION:2.0
PRODID:-//Gillespie County GOP - ECPv6.15.20//NONSGML v1.0//EN
CALSCALE:GREGORIAN
METHOD:PUBLISH
X-ORIGINAL-URL:https://gillespiecountygop.org
X-WR-CALDESC:Events for Gillespie County GOP
REFRESH-INTERVAL;VALUE=DURATION:PT1H
X-Robots-Tag:noindex
X-PUBLISHED-TTL:PT1H
BEGIN:VTIMEZONE
TZID:America/Chicago
BEGIN:DAYLIGHT
TZOFFSETFROM:-0600
TZOFFSETTO:-0500
TZNAME:CDT
DTSTART:20230312T080000
END:DAYLIGHT
BEGIN:STANDARD
TZOFFSETFROM:-0500
TZOFFSETTO:-0600
TZNAME:CST
DTSTART:20231105T070000
END:STANDARD
BEGIN:DAYLIGHT
TZOFFSETFROM:-0600
TZOFFSETTO:-0500
TZNAME:CDT
DTSTART:20240310T080000
END:DAYLIGHT
BEGIN:STANDARD
TZOFFSETFROM:-0500
TZOFFSETTO:-0600
TZNAME:CST
DTSTART:20241103T070000
END:STANDARD
BEGIN:DAYLIGHT
TZOFFSETFROM:-0600
TZOFFSETTO:-0500
TZNAME:CDT
DTSTART:20250309T080000
END:DAYLIGHT
BEGIN:STANDARD
TZOFFSETFROM:-0500
TZOFFSETTO:-0600
TZNAME:CST
DTSTART:20251102T070000
END:STANDARD
END:VTIMEZONE
BEGIN:VEVENT
DTSTART;TZID=America/Chicago:20240305T070000
DTEND;TZID=America/Chicago:20240305T190000
DTSTAMP:20260421T035027
CREATED:20240109T210200Z
LAST-MODIFIED:20240110T145625Z
UID:2577-1709622000-1709665200@gillespiecountygop.org
SUMMARY:Republican Primary
DESCRIPTION:7 AM – 7 PM details to follow.
URL:https://gillespiecountygop.org/event/republican-primary-2/
LOCATION:TX
END:VEVENT
BEGIN:VEVENT
DTSTART;TZID=America/Chicago:20240320T113000
DTEND;TZID=America/Chicago:20240320T130000
DTSTAMP:20260421T035027
CREATED:20240104T201150Z
LAST-MODIFIED:20240104T201150Z
UID:2537-1710934200-1710939600@gillespiecountygop.org
SUMMARY:GC Republican Women Monthly Meeting
DESCRIPTION:All women interested in the political environment of Gillespie County are invited to attend our monthly meetings. The meetings are held on the third Wednesday of each month at the Republican Headquarters\, 904 W. Main\, Fredericksburg\, TX\, beginning at 11:30 a.m – 1 p.m.
URL:https://gillespiecountygop.org/event/gc-republican-women-monthly-meeting-5/
LOCATION:GC Republican Headquarters\, 904 W. Main St\,\, Fredericksburg\, TX\, 78624\, United States
END:VEVENT
END:VCALENDAR