BEGIN:VCALENDAR
VERSION:2.0
PRODID:-//Gillespie County GOP - ECPv6.15.20//NONSGML v1.0//EN
CALSCALE:GREGORIAN
METHOD:PUBLISH
X-WR-CALNAME:Gillespie County GOP
X-ORIGINAL-URL:https://gillespiecountygop.org
X-WR-CALDESC:Events for Gillespie County GOP
REFRESH-INTERVAL;VALUE=DURATION:PT1H
X-Robots-Tag:noindex
X-PUBLISHED-TTL:PT1H
BEGIN:VTIMEZONE
TZID:America/Chicago
BEGIN:DAYLIGHT
TZOFFSETFROM:-0600
TZOFFSETTO:-0500
TZNAME:CDT
DTSTART:20210314T080000
END:DAYLIGHT
BEGIN:STANDARD
TZOFFSETFROM:-0500
TZOFFSETTO:-0600
TZNAME:CST
DTSTART:20211107T070000
END:STANDARD
BEGIN:DAYLIGHT
TZOFFSETFROM:-0600
TZOFFSETTO:-0500
TZNAME:CDT
DTSTART:20220313T080000
END:DAYLIGHT
BEGIN:STANDARD
TZOFFSETFROM:-0500
TZOFFSETTO:-0600
TZNAME:CST
DTSTART:20221106T070000
END:STANDARD
BEGIN:DAYLIGHT
TZOFFSETFROM:-0600
TZOFFSETTO:-0500
TZNAME:CDT
DTSTART:20230312T080000
END:DAYLIGHT
BEGIN:STANDARD
TZOFFSETFROM:-0500
TZOFFSETTO:-0600
TZNAME:CST
DTSTART:20231105T070000
END:STANDARD
END:VTIMEZONE
BEGIN:VEVENT
DTSTART;TZID=America/Chicago:20220301T070000
DTEND;TZID=America/Chicago:20220301T190000
DTSTAMP:20260421T074700
CREATED:20210206T234026Z
LAST-MODIFIED:20210206T234026Z
UID:591-1646118000-1646161200@gillespiecountygop.org
SUMMARY:Republican Primary
DESCRIPTION:
URL:https://gillespiecountygop.org/event/republican-primary/
LOCATION:TX
END:VEVENT
BEGIN:VEVENT
DTSTART;TZID=America/Chicago:20220301T190000
DTEND;TZID=America/Chicago:20220301T200000
DTSTAMP:20260421T074700
CREATED:20220205T042706Z
LAST-MODIFIED:20220205T144755Z
UID:1191-1646161200-1646164800@gillespiecountygop.org
SUMMARY:GC Republican Precinct Conventions
DESCRIPTION:Precinct Conventions will be held on March 1st after Primary Election poll closure after 7:00 pm at each Precinct voting location – click here
URL:https://gillespiecountygop.org/event/gc-republican-precinct-conventions/
LOCATION:TX
END:VEVENT
BEGIN:VEVENT
DTSTART;TZID=America/Chicago:20220316T110000
DTEND;TZID=America/Chicago:20220316T130000
DTSTAMP:20260421T074700
CREATED:20220205T195911Z
LAST-MODIFIED:20220307T151733Z
UID:1213-1647428400-1647435600@gillespiecountygop.org
SUMMARY:GC Republican Women Monthly Meeting
DESCRIPTION:Business Meeting\nIntroduction of GCRW Book Club\nFeaturing Jake Wittington\, FISD School Board Candidate
URL:https://gillespiecountygop.org/event/gc-republican-women-monthly-meeting/
LOCATION:Golden Hub\, 1009 N Lincoln St.\, Fredericksburg\, TX\, 78624
END:VEVENT
BEGIN:VEVENT
DTSTART;TZID=America/Chicago:20220317T173000
DTEND;TZID=America/Chicago:20220317T183000
DTSTAMP:20260421T074700
CREATED:20220214T225203Z
LAST-MODIFIED:20220214T225642Z
UID:1260-1647538200-1647541800@gillespiecountygop.org
SUMMARY:GC Republican Club Board Meeting
DESCRIPTION:The GC Republican Club Board Meeting will be held at 5:30 PM at Victory Fellowship Church.
URL:https://gillespiecountygop.org/event/gc-republican-club-board-meeting-2/
LOCATION:Victory Fellowship Church\, 414 E College St\, Fredericksburg\, TX\, 78624\, United States
END:VEVENT
BEGIN:VEVENT
DTSTART;TZID=America/Chicago:20220317T190000
DTEND;TZID=America/Chicago:20220317T203000
DTSTAMP:20260421T074700
CREATED:20220214T225300Z
LAST-MODIFIED:20220308T000111Z
UID:1262-1647543600-1647549000@gillespiecountygop.org
SUMMARY:GC Republican Club Program
DESCRIPTION:March 17th Program\n  7-8:30 pm\nVictory Fellowship Church  \nPreliminary Agenda:     \n   –Prep for 3/26 County Convention \n\n   –Essential Republican Party Rules & Roberts Rules\n   –Prep for City and FISD Elections on 5/7\n    –Plan for Run-off Elections on 5/24\n    –Early Prep for State Convention June 13-18\nNote:  Review Road to Convention Videos:  Level 1\, 2 & 3\n\nVideos\nhttps://youtu.be/81aL9Rynueg;        https://youtu.be/FVdK3pjMy_8;          https://youtu.be/2eJ0JB812n4
URL:https://gillespiecountygop.org/event/gc-republican-club-program/
LOCATION:Victory Fellowship Church\, 414 E College St\, Fredericksburg\, TX\, 78624\, United States
END:VEVENT
BEGIN:VEVENT
DTSTART;TZID=America/Chicago:20220324T000000
DTEND;TZID=America/Chicago:20220324T000000
DTSTAMP:20260421T074700
CREATED:20220212T175554Z
LAST-MODIFIED:20220212T175554Z
UID:1242-1648080000-1648080000@gillespiecountygop.org
SUMMARY:GC Young Republicans Monthly Meeting
DESCRIPTION:The Gillespie County Young Republicans meet on the 4th Thursday of each month. Time & place TBA.
URL:https://gillespiecountygop.org/event/gc-young-republicans-monthly-meeting-2/
LOCATION:TX
END:VEVENT
BEGIN:VEVENT
DTSTART;TZID=America/Chicago:20220326T100000
DTEND;TZID=America/Chicago:20220326T160000
DTSTAMP:20260421T074700
CREATED:20220205T044121Z
LAST-MODIFIED:20220308T155704Z
UID:1193-1648288800-1648310400@gillespiecountygop.org
SUMMARY:Gillespie County Republican Convention
DESCRIPTION:The Gillespie County Republican Convention will be held on March 26th at Golden Hub\, 1009 N. Lincoln St.\, Fredericksburg\, Tx 78624 from 10:00 am – 4:00 pm \nDelegates were elected at the March 1 precinct conventions. Guests are welcome\, but only elected delegates can participate in the convention.\nclick here for more information.
URL:https://gillespiecountygop.org/event/gillespie-county-republican-convention/
LOCATION:Golden Hub\, 1009 N Lincoln St.\, Fredericksburg\, TX\, 78624
END:VEVENT
END:VCALENDAR