BEGIN:VCALENDAR
VERSION:2.0
PRODID:-//Gillespie County GOP - ECPv6.15.20//NONSGML v1.0//EN
CALSCALE:GREGORIAN
METHOD:PUBLISH
X-WR-CALNAME:Gillespie County GOP
X-ORIGINAL-URL:https://gillespiecountygop.org
X-WR-CALDESC:Events for Gillespie County GOP
REFRESH-INTERVAL;VALUE=DURATION:PT1H
X-Robots-Tag:noindex
X-PUBLISHED-TTL:PT1H
BEGIN:VTIMEZONE
TZID:America/Chicago
BEGIN:DAYLIGHT
TZOFFSETFROM:-0600
TZOFFSETTO:-0500
TZNAME:CDT
DTSTART:20220313T080000
END:DAYLIGHT
BEGIN:STANDARD
TZOFFSETFROM:-0500
TZOFFSETTO:-0600
TZNAME:CST
DTSTART:20221106T070000
END:STANDARD
BEGIN:DAYLIGHT
TZOFFSETFROM:-0600
TZOFFSETTO:-0500
TZNAME:CDT
DTSTART:20230312T080000
END:DAYLIGHT
BEGIN:STANDARD
TZOFFSETFROM:-0500
TZOFFSETTO:-0600
TZNAME:CST
DTSTART:20231105T070000
END:STANDARD
BEGIN:DAYLIGHT
TZOFFSETFROM:-0600
TZOFFSETTO:-0500
TZNAME:CDT
DTSTART:20240310T080000
END:DAYLIGHT
BEGIN:STANDARD
TZOFFSETFROM:-0500
TZOFFSETTO:-0600
TZNAME:CST
DTSTART:20241103T070000
END:STANDARD
END:VTIMEZONE
BEGIN:VEVENT
DTSTART;VALUE=DATE:20230313
DTEND;VALUE=DATE:20230314
DTSTAMP:20260421T074122
CREATED:20230302T143641Z
LAST-MODIFIED:20230302T143641Z
UID:2071-1678665600-1678751999@gillespiecountygop.org
SUMMARY:Austin Capitol - TX Faith & Family Day
DESCRIPTION:Mar 13: Austin Capitol – TX Faith & Family Day – https://www.texasfaithandfamily.com/\nThere is an FTP Bus! https://fredericksburgteaparty.org/
URL:https://gillespiecountygop.org/event/austin-capitol-tx-faith-family-day/
LOCATION:Texas State Capitol\, 1100 Congress Ave\, Austin\, TX\, 78701\, United States
END:VEVENT
END:VCALENDAR