BEGIN:VCALENDAR
VERSION:2.0
PRODID:-//Gillespie County GOP - ECPv6.15.20//NONSGML v1.0//EN
CALSCALE:GREGORIAN
METHOD:PUBLISH
X-ORIGINAL-URL:https://gillespiecountygop.org
X-WR-CALDESC:Events for Gillespie County GOP
REFRESH-INTERVAL;VALUE=DURATION:PT1H
X-Robots-Tag:noindex
X-PUBLISHED-TTL:PT1H
BEGIN:VTIMEZONE
TZID:America/Chicago
BEGIN:DAYLIGHT
TZOFFSETFROM:-0600
TZOFFSETTO:-0500
TZNAME:CDT
DTSTART:20220313T080000
END:DAYLIGHT
BEGIN:STANDARD
TZOFFSETFROM:-0500
TZOFFSETTO:-0600
TZNAME:CST
DTSTART:20221106T070000
END:STANDARD
BEGIN:DAYLIGHT
TZOFFSETFROM:-0600
TZOFFSETTO:-0500
TZNAME:CDT
DTSTART:20230312T080000
END:DAYLIGHT
BEGIN:STANDARD
TZOFFSETFROM:-0500
TZOFFSETTO:-0600
TZNAME:CST
DTSTART:20231105T070000
END:STANDARD
BEGIN:DAYLIGHT
TZOFFSETFROM:-0600
TZOFFSETTO:-0500
TZNAME:CDT
DTSTART:20240310T080000
END:DAYLIGHT
BEGIN:STANDARD
TZOFFSETFROM:-0500
TZOFFSETTO:-0600
TZNAME:CST
DTSTART:20241103T070000
END:STANDARD
END:VTIMEZONE
BEGIN:VEVENT
DTSTART;TZID=America/Chicago:20230224T180000
DTEND;TZID=America/Chicago:20230224T210000
DTSTAMP:20260421T102156
CREATED:20221112T153712Z
LAST-MODIFIED:20230218T171445Z
UID:1839-1677261600-1677272400@gillespiecountygop.org
SUMMARY:GCRP Lincoln Reagan Dinner
DESCRIPTION:(Due to a conflict\, Sen. Josh Hawley (MO) will not be able to attend.) \nTable Sponsors\n(Form at bottom of page)\n\nPlatinum $5000 – Stewart Skloss\, (Generous Donor)\, (Generous Donor)\n\nGold $2500 – \nSilver $1000 – Bruce & Megg Campbell\, Mo & Mary Saiidi\, George & Mary Studor\, (Generous Donor)\, \nDennis McCanless\, Mark & Cathy Ledder\, Gun Owners of America (2)\, Kyle Biedermann\, Gillespie County Republican Women\n\nBios:   Rep. Ellen Troxclair\,  Matt Rinaldi\, David Barton\,  Rick Green \nIndividual Tickets – https://www.eventbrite.com/e/lincoln-reagan-dinner-2023-tickets-507677215217 \nSponsor a Table of 8 Form – https://gillespiecountygop.org/wp-content/uploads/2022/11/Order-Form-Lincoln-Reagan-2023-fillin.pdf \nIf you are not that familiar with some of the speakers\, I have attached some links for you. \nDavid Barton (a few years ago on Glenn Beck) – https://www.youtube.com/watch?v=EbwIXoUs3WM \nState Chair Matt Rinaldi – https://www.youtube.com/watch?v=V0DlNg9_2nU
URL:https://gillespiecountygop.org/event/gcrp-lincoln-reagan-dinner/
LOCATION:The Resort at Fredericksburg\, 3567 US HWY 290 East\, Fredericksburg\, TX\, 78624\, United States
END:VEVENT
END:VCALENDAR