BEGIN:VCALENDAR
VERSION:2.0
PRODID:-//Gillespie County GOP - ECPv6.15.20//NONSGML v1.0//EN
CALSCALE:GREGORIAN
METHOD:PUBLISH
X-WR-CALNAME:Gillespie County GOP
X-ORIGINAL-URL:https://gillespiecountygop.org
X-WR-CALDESC:Events for Gillespie County GOP
REFRESH-INTERVAL;VALUE=DURATION:PT1H
X-Robots-Tag:noindex
X-PUBLISHED-TTL:PT1H
BEGIN:VTIMEZONE
TZID:America/Chicago
BEGIN:DAYLIGHT
TZOFFSETFROM:-0600
TZOFFSETTO:-0500
TZNAME:CDT
DTSTART:20210314T080000
END:DAYLIGHT
BEGIN:STANDARD
TZOFFSETFROM:-0500
TZOFFSETTO:-0600
TZNAME:CST
DTSTART:20211107T070000
END:STANDARD
BEGIN:DAYLIGHT
TZOFFSETFROM:-0600
TZOFFSETTO:-0500
TZNAME:CDT
DTSTART:20220313T080000
END:DAYLIGHT
BEGIN:STANDARD
TZOFFSETFROM:-0500
TZOFFSETTO:-0600
TZNAME:CST
DTSTART:20221106T070000
END:STANDARD
BEGIN:DAYLIGHT
TZOFFSETFROM:-0600
TZOFFSETTO:-0500
TZNAME:CDT
DTSTART:20230312T080000
END:DAYLIGHT
BEGIN:STANDARD
TZOFFSETFROM:-0500
TZOFFSETTO:-0600
TZNAME:CST
DTSTART:20231105T070000
END:STANDARD
END:VTIMEZONE
BEGIN:VEVENT
DTSTART;TZID=America/Chicago:20220704T100000
DTEND;TZID=America/Chicago:20220704T140000
DTSTAMP:20260422T112628
CREATED:20220323T143756Z
LAST-MODIFIED:20220323T144302Z
UID:1422-1656928800-1656943200@gillespiecountygop.org
SUMMARY:Fredericksburg Fourth of July Parade
DESCRIPTION:The GC Republican Party\, the Republican Women. and the Republican Club are planning to once again co-sponsor the opening float with band and music\, plus the patriotic program in Marketplatz afterward.
URL:https://gillespiecountygop.org/event/fredericksburg-fourth-of-july-parade/
LOCATION:City of Fredericksburg\, 100 W Main Street\, Fredericksburg\, TX\, 78624\, United States
END:VEVENT
BEGIN:VEVENT
DTSTART;TZID=America/Chicago:20220704T190000
DTEND;TZID=America/Chicago:20220704T203000
DTSTAMP:20260422T112628
CREATED:20220610T182622Z
LAST-MODIFIED:20220610T182622Z
UID:1595-1656961200-1656966600@gillespiecountygop.org
SUMMARY:GC Republican Party 4th of July Community Concert
DESCRIPTION:The GC Republican Party 4th of July Community Concert will be held at ____pm at the Hanger Hotel Conference Center. This is a FREE concert for the public. If the fireworks display happens in Lady Bird Park\, you can watch it from there. (That means if we get rain!)
URL:https://gillespiecountygop.org/event/gc-republican-party-4th-of-july-community-concert/
LOCATION:Hanger Hotel Conference Center\, 155 Airport Rd\, Fredericksburg\, TX\, 78624\, United States
END:VEVENT
END:VCALENDAR