BEGIN:VCALENDAR
VERSION:2.0
PRODID:-//Gillespie County GOP - ECPv6.15.20//NONSGML v1.0//EN
CALSCALE:GREGORIAN
METHOD:PUBLISH
X-ORIGINAL-URL:https://gillespiecountygop.org
X-WR-CALDESC:Events for Gillespie County GOP
REFRESH-INTERVAL;VALUE=DURATION:PT1H
X-Robots-Tag:noindex
X-PUBLISHED-TTL:PT1H
BEGIN:VTIMEZONE
TZID:America/Chicago
BEGIN:DAYLIGHT
TZOFFSETFROM:-0600
TZOFFSETTO:-0500
TZNAME:CDT
DTSTART:20210314T080000
END:DAYLIGHT
BEGIN:STANDARD
TZOFFSETFROM:-0500
TZOFFSETTO:-0600
TZNAME:CST
DTSTART:20211107T070000
END:STANDARD
BEGIN:DAYLIGHT
TZOFFSETFROM:-0600
TZOFFSETTO:-0500
TZNAME:CDT
DTSTART:20220313T080000
END:DAYLIGHT
BEGIN:STANDARD
TZOFFSETFROM:-0500
TZOFFSETTO:-0600
TZNAME:CST
DTSTART:20221106T070000
END:STANDARD
BEGIN:DAYLIGHT
TZOFFSETFROM:-0600
TZOFFSETTO:-0500
TZNAME:CDT
DTSTART:20230312T080000
END:DAYLIGHT
BEGIN:STANDARD
TZOFFSETFROM:-0500
TZOFFSETTO:-0600
TZNAME:CST
DTSTART:20231105T070000
END:STANDARD
END:VTIMEZONE
BEGIN:VEVENT
DTSTART;VALUE=DATE:20220516
DTEND;VALUE=DATE:20220521
DTSTAMP:20260421T131904
CREATED:20220308T154306Z
LAST-MODIFIED:20220308T154306Z
UID:1352-1652659200-1653091199@gillespiecountygop.org
SUMMARY:Early Voting for May 24 Primary Run-off Elections
DESCRIPTION:Early Voting for May 24 Primary Run-off Elections
URL:https://gillespiecountygop.org/event/early-voting-for-may-24-primary-run-off-elections/
LOCATION:TX
END:VEVENT
BEGIN:VEVENT
DTSTART;TZID=America/Chicago:20220519T180000
DTEND;TZID=America/Chicago:20220519T200000
DTSTAMP:20260421T131904
CREATED:20220323T142612Z
LAST-MODIFIED:20220430T182110Z
UID:1418-1652983200-1652990400@gillespiecountygop.org
SUMMARY:GC Republican Women - Featuring Sheriff Buddy Mills
DESCRIPTION:St. Joseph’s Halle\n212 W. San Antonio\nFredericksburg\, TX 78624 \n6:00 PM Program \nFeaturing Sheriff Buddy Mills.  Sheriff Mills will update us on key issues related to crime and our first responders in Gillespie County\, including how the border crisis may be impacting our community.
URL:https://gillespiecountygop.org/event/gc-republican-women-featuring-sheriff-buddy-mills/
LOCATION:St. Joseph’s Halle\, 212 W. San Antonio St.\, Fredericksburg\, TX\, 78624\, United States
END:VEVENT
END:VCALENDAR