BEGIN:VCALENDAR
VERSION:2.0
PRODID:-//Gillespie County GOP - ECPv6.15.20//NONSGML v1.0//EN
CALSCALE:GREGORIAN
METHOD:PUBLISH
X-ORIGINAL-URL:https://gillespiecountygop.org
X-WR-CALDESC:Events for Gillespie County GOP
REFRESH-INTERVAL;VALUE=DURATION:PT1H
X-Robots-Tag:noindex
X-PUBLISHED-TTL:PT1H
BEGIN:VTIMEZONE
TZID:America/Chicago
BEGIN:DAYLIGHT
TZOFFSETFROM:-0600
TZOFFSETTO:-0500
TZNAME:CDT
DTSTART:20210314T080000
END:DAYLIGHT
BEGIN:STANDARD
TZOFFSETFROM:-0500
TZOFFSETTO:-0600
TZNAME:CST
DTSTART:20211107T070000
END:STANDARD
BEGIN:DAYLIGHT
TZOFFSETFROM:-0600
TZOFFSETTO:-0500
TZNAME:CDT
DTSTART:20220313T080000
END:DAYLIGHT
BEGIN:STANDARD
TZOFFSETFROM:-0500
TZOFFSETTO:-0600
TZNAME:CST
DTSTART:20221106T070000
END:STANDARD
BEGIN:DAYLIGHT
TZOFFSETFROM:-0600
TZOFFSETTO:-0500
TZNAME:CDT
DTSTART:20230312T080000
END:DAYLIGHT
BEGIN:STANDARD
TZOFFSETFROM:-0500
TZOFFSETTO:-0600
TZNAME:CST
DTSTART:20231105T070000
END:STANDARD
END:VTIMEZONE
BEGIN:VEVENT
DTSTART;VALUE=DATE:20220425
DTEND;VALUE=DATE:20220501
DTSTAMP:20260421T102203
CREATED:20220308T153616Z
LAST-MODIFIED:20220308T153616Z
UID:1346-1650844800-1651363199@gillespiecountygop.org
SUMMARY:Early Voting for May 7 Elections
DESCRIPTION:Early Voting for May 7 Elections \nCity of Fredericksburg\nFISD School Board\nDoss CCSD\nState Constitutional Amendments \nDetails TBA
URL:https://gillespiecountygop.org/event/early-voting-for-may-7-elections/
LOCATION:TX
END:VEVENT
BEGIN:VEVENT
DTSTART;TZID=America/Chicago:20220426T180000
DTEND;TZID=America/Chicago:20220426T200000
DTSTAMP:20260421T102203
CREATED:20220404T163907Z
LAST-MODIFIED:20220408T175904Z
UID:1466-1650996000-1651003200@gillespiecountygop.org
SUMMARY:GC Young Republicans SD-24 Candidate Forum (Pete Flores & Raul Reyes)
DESCRIPTION:GC Young Republicans SD-24 Candidate Forum (Pete Flores & Raul Reyes) \n6 PM St Joseph’s Hall
URL:https://gillespiecountygop.org/event/gc-young-republicans-state-rep-dist-19-candidate-forum/
LOCATION:St. Joseph’s Halle\, 212 W. San Antonio St.\, Fredericksburg\, TX\, 78624\, United States
END:VEVENT
END:VCALENDAR