BEGIN:VCALENDAR
VERSION:2.0
PRODID:-//Gillespie County GOP - ECPv6.15.20//NONSGML v1.0//EN
CALSCALE:GREGORIAN
METHOD:PUBLISH
X-WR-CALNAME:Gillespie County GOP
X-ORIGINAL-URL:https://gillespiecountygop.org
X-WR-CALDESC:Events for Gillespie County GOP
REFRESH-INTERVAL;VALUE=DURATION:PT1H
X-Robots-Tag:noindex
X-PUBLISHED-TTL:PT1H
BEGIN:VTIMEZONE
TZID:America/Chicago
BEGIN:DAYLIGHT
TZOFFSETFROM:-0600
TZOFFSETTO:-0500
TZNAME:CDT
DTSTART:20210314T080000
END:DAYLIGHT
BEGIN:STANDARD
TZOFFSETFROM:-0500
TZOFFSETTO:-0600
TZNAME:CST
DTSTART:20211107T070000
END:STANDARD
BEGIN:DAYLIGHT
TZOFFSETFROM:-0600
TZOFFSETTO:-0500
TZNAME:CDT
DTSTART:20220313T080000
END:DAYLIGHT
BEGIN:STANDARD
TZOFFSETFROM:-0500
TZOFFSETTO:-0600
TZNAME:CST
DTSTART:20221106T070000
END:STANDARD
BEGIN:DAYLIGHT
TZOFFSETFROM:-0600
TZOFFSETTO:-0500
TZNAME:CDT
DTSTART:20230312T080000
END:DAYLIGHT
BEGIN:STANDARD
TZOFFSETFROM:-0500
TZOFFSETTO:-0600
TZNAME:CST
DTSTART:20231105T070000
END:STANDARD
END:VTIMEZONE
BEGIN:VEVENT
DTSTART;TZID=America/Chicago:20220420T180000
DTEND;TZID=America/Chicago:20220420T200000
DTSTAMP:20260421T102131
CREATED:20220307T152132Z
LAST-MODIFIED:20220323T142344Z
UID:1333-1650477600-1650484800@gillespiecountygop.org
SUMMARY:GC Republican Women - an evening with Dr. Joe Rodriguez\, Superintendent\, FISD
DESCRIPTION:St. Joseph’s Halle\n212 W. San Antonio\nFredericksburg\, TX 78624 \n5:00 PM Board Meeting\n5:30 PM Member Meeting \n6:00 PM Program with Dinner from 6:00 PM – 6:30 PM (sponsored by GCRW; donations accepted) \nFeaturing Dr. Joe Rodriguez\, Superintendent of FISD.  He will provide us with an overview of the $82M FISD  Bond with special attention regarding the economics.  Dr. Rodriguez is also looking forward to talking about key issues and opportunities in the district.
URL:https://gillespiecountygop.org/event/gc-republican-women-an-evening-with-dr-joe-rodriguez-superintendent-fisd/
LOCATION:St. Joseph’s Halle\, 212 W. San Antonio St.\, Fredericksburg\, TX\, 78624\, United States
END:VEVENT
END:VCALENDAR