BEGIN:VCALENDAR
VERSION:2.0
PRODID:-//Gillespie County GOP - ECPv6.15.20//NONSGML v1.0//EN
CALSCALE:GREGORIAN
METHOD:PUBLISH
X-ORIGINAL-URL:https://gillespiecountygop.org
X-WR-CALDESC:Events for Gillespie County GOP
REFRESH-INTERVAL;VALUE=DURATION:PT1H
X-Robots-Tag:noindex
X-PUBLISHED-TTL:PT1H
BEGIN:VTIMEZONE
TZID:America/Chicago
BEGIN:DAYLIGHT
TZOFFSETFROM:-0600
TZOFFSETTO:-0500
TZNAME:CDT
DTSTART:20210314T080000
END:DAYLIGHT
BEGIN:STANDARD
TZOFFSETFROM:-0500
TZOFFSETTO:-0600
TZNAME:CST
DTSTART:20211107T070000
END:STANDARD
BEGIN:DAYLIGHT
TZOFFSETFROM:-0600
TZOFFSETTO:-0500
TZNAME:CDT
DTSTART:20220313T080000
END:DAYLIGHT
BEGIN:STANDARD
TZOFFSETFROM:-0500
TZOFFSETTO:-0600
TZNAME:CST
DTSTART:20221106T070000
END:STANDARD
BEGIN:DAYLIGHT
TZOFFSETFROM:-0600
TZOFFSETTO:-0500
TZNAME:CDT
DTSTART:20230312T080000
END:DAYLIGHT
BEGIN:STANDARD
TZOFFSETFROM:-0500
TZOFFSETTO:-0600
TZNAME:CST
DTSTART:20231105T070000
END:STANDARD
END:VTIMEZONE
BEGIN:VEVENT
DTSTART;TZID=America/Chicago:20220301T070000
DTEND;TZID=America/Chicago:20220301T190000
DTSTAMP:20260421T064334
CREATED:20210206T234026Z
LAST-MODIFIED:20210206T234026Z
UID:591-1646118000-1646161200@gillespiecountygop.org
SUMMARY:Republican Primary
DESCRIPTION:
URL:https://gillespiecountygop.org/event/republican-primary/
LOCATION:TX
END:VEVENT
BEGIN:VEVENT
DTSTART;TZID=America/Chicago:20220301T190000
DTEND;TZID=America/Chicago:20220301T200000
DTSTAMP:20260421T064334
CREATED:20220205T042706Z
LAST-MODIFIED:20220205T144755Z
UID:1191-1646161200-1646164800@gillespiecountygop.org
SUMMARY:GC Republican Precinct Conventions
DESCRIPTION:Precinct Conventions will be held on March 1st after Primary Election poll closure after 7:00 pm at each Precinct voting location – click here
URL:https://gillespiecountygop.org/event/gc-republican-precinct-conventions/
LOCATION:TX
END:VEVENT
END:VCALENDAR