BEGIN:VCALENDAR
VERSION:2.0
PRODID:-//Gillespie County GOP - ECPv6.15.20//NONSGML v1.0//EN
CALSCALE:GREGORIAN
METHOD:PUBLISH
X-WR-CALNAME:Gillespie County GOP
X-ORIGINAL-URL:https://gillespiecountygop.org
X-WR-CALDESC:Events for Gillespie County GOP
REFRESH-INTERVAL;VALUE=DURATION:PT1H
X-Robots-Tag:noindex
X-PUBLISHED-TTL:PT1H
BEGIN:VTIMEZONE
TZID:America/Chicago
BEGIN:DAYLIGHT
TZOFFSETFROM:-0600
TZOFFSETTO:-0500
TZNAME:CDT
DTSTART:20210314T080000
END:DAYLIGHT
BEGIN:STANDARD
TZOFFSETFROM:-0500
TZOFFSETTO:-0600
TZNAME:CST
DTSTART:20211107T070000
END:STANDARD
BEGIN:DAYLIGHT
TZOFFSETFROM:-0600
TZOFFSETTO:-0500
TZNAME:CDT
DTSTART:20220313T080000
END:DAYLIGHT
BEGIN:STANDARD
TZOFFSETFROM:-0500
TZOFFSETTO:-0600
TZNAME:CST
DTSTART:20221106T070000
END:STANDARD
BEGIN:DAYLIGHT
TZOFFSETFROM:-0600
TZOFFSETTO:-0500
TZNAME:CDT
DTSTART:20230312T080000
END:DAYLIGHT
BEGIN:STANDARD
TZOFFSETFROM:-0500
TZOFFSETTO:-0600
TZNAME:CST
DTSTART:20231105T070000
END:STANDARD
END:VTIMEZONE
BEGIN:VEVENT
DTSTART;TZID=America/Chicago:20220211T180000
DTEND;TZID=America/Chicago:20220211T210000
DTSTAMP:20260421T074035
CREATED:20211023T134118Z
LAST-MODIFIED:20220211T000606Z
UID:918-1644602400-1644613200@gillespiecountygop.org
SUMMARY:Lincoln Reagan Dinner   Gillespie County Republican Party
DESCRIPTION:Friday\, February 11\, 2022\nThe Edge at The Resort at Fredericksburg\n3567 US HWY 290 East\, Fredericksburg\, TX 78624 \nBUY TICKETS\n\n\n\n\nNEW! Lt. Gov. Dan Patrick joins the LRD line-up\n\n\n\nPlease join us at our 1st annual Lincoln Reagan Dinner.\n\n\n\n\n\nAbout this event\n\n\nThe following officials will speak at the dinner: Lt. Governor Dan Patrick\, U.S. Representative Chip Roy\, award-winning journalist Lara Logan\, and featured speaker Rick Green of Patriot Academy & Wallbuilders.\n\n\n\n\n\n\n\n\n\n\n \nThe Lincoln Reagan Dinner is an opportunity for every major Republican elected official\, business leader\, and affiliated group to “raise their flag” with a table sponsorship and show support for our local TEAM. \nSponsors to date: \nSPONSORS\n-Platinum-\n-Gold-\n\nDian Stai\nGeneral Michael Hagee\nTrey Blocker\n\n\n \n-Silver-\n\nGeorge Studor\n/Mark & Cathy Ledder\nKeith Kramer/J.D. Hickman\nGillespie County Republican Women\nSteve & Randye McAnally\nMo & Mary Saiidi\nMickey Poole\nThe Edge at The Resort at Fredericksburg is one of Fredericksburg’s newest venues. \nSponsorship Form \nAll proceeds from the event will be used to fund Party activities for the sole purpose of electing Republicans and growing the Republican Party in the county. \nIn order for your name to be listed as a sponsor in the program\, your payment must be received by January 28\, 2022. \nContributions are not tax-deductible. \nLaw requires we ask for your occupation and employer. If you are retired\, put retired. If you are self-employed\, put self-employer and describe your occupation. \n*subject to the congressional calendar \n\n\n\nRick Green is known as America’s Constitution Coach. He is a former Texas State\nRepresentative\, national speaker\, author\, and radio host. He & his family travel the nation\nspeaking on America’s forgotten history and heroes\, with an emphasis on our moral\, religious and constitutional heritage. Rick co-hosts the national daily radio program\, WallBuilders Live!\, with David Barton. \nRick is the author and executive producer of Constitution Alive\, America’s most\nengaging and entertaining study of the U.S. Constitution\, as well as Biblical Citizenship In\nModern America\, Biblical instruction for a free people. \nAlong with his wife\, Kara\, Rick is the founder of Patriot Academy\, an elite leadership training\nprogram specializing in applied civics with a Biblical\, historical\, & Constitutional\nFoundation. Through their Constitution Coach program\, they are training and empowering\ncitizens across the nation to educate their communities about the Constitution.\nRick & Kara have 4 grown kids and two grandchildren. \n  \n 
URL:https://gillespiecountygop.org/event/lincoln-reagan-day-dinner-gillespie-county-republican-party/
LOCATION:The Resort at Fredericksburg\, 3567 US HWY 290 East\, Fredericksburg\, TX\, 78624\, United States
END:VEVENT
END:VCALENDAR