BEGIN:VCALENDAR
VERSION:2.0
PRODID:-//Gillespie County GOP - ECPv6.15.20//NONSGML v1.0//EN
CALSCALE:GREGORIAN
METHOD:PUBLISH
X-WR-CALNAME:Gillespie County GOP
X-ORIGINAL-URL:https://gillespiecountygop.org
X-WR-CALDESC:Events for Gillespie County GOP
REFRESH-INTERVAL;VALUE=DURATION:PT1H
X-Robots-Tag:noindex
X-PUBLISHED-TTL:PT1H
BEGIN:VTIMEZONE
TZID:America/Chicago
BEGIN:DAYLIGHT
TZOFFSETFROM:-0600
TZOFFSETTO:-0500
TZNAME:CDT
DTSTART:20210314T080000
END:DAYLIGHT
BEGIN:STANDARD
TZOFFSETFROM:-0500
TZOFFSETTO:-0600
TZNAME:CST
DTSTART:20211107T070000
END:STANDARD
BEGIN:DAYLIGHT
TZOFFSETFROM:-0600
TZOFFSETTO:-0500
TZNAME:CDT
DTSTART:20220313T080000
END:DAYLIGHT
BEGIN:STANDARD
TZOFFSETFROM:-0500
TZOFFSETTO:-0600
TZNAME:CST
DTSTART:20221106T070000
END:STANDARD
BEGIN:DAYLIGHT
TZOFFSETFROM:-0600
TZOFFSETTO:-0500
TZNAME:CDT
DTSTART:20230312T080000
END:DAYLIGHT
BEGIN:STANDARD
TZOFFSETFROM:-0500
TZOFFSETTO:-0600
TZNAME:CST
DTSTART:20231105T070000
END:STANDARD
END:VTIMEZONE
BEGIN:VEVENT
DTSTART;TZID=America/Chicago:20220127T180000
DTEND;TZID=America/Chicago:20220127T210000
DTSTAMP:20260421T054419
CREATED:20210409T161802Z
LAST-MODIFIED:20220114T170509Z
UID:651-1643306400-1643317200@gillespiecountygop.org
SUMMARY:GC Republican Club Quarterly Dinner
DESCRIPTION:The Gillespie County Republican Club Quarterly Dinner Meeting will be held on Thursday\, January 27\, 2022\, at St. Joseph’s Halle\, 212 W San Antonio St\, Fredericksburg\, TX 78624\, beginning at 6:00 p.m. with a social and a catered dinner served at 6:30 p.m. \nThe dinner cost is $20 per person for members. You need not be a member to attend. RSVP to Jerry Farley @ 830-990-9355 or email: jerry.farley@rocketmail.com. RSVP by Sunday\, January 23\, if eating dinner. (Dinner is optional. If attending\, but not having dinner\, a $5 donation is requested to help defray the cost of the facility.) \nProgram – Republican Primary Candidate Forum for State Representative Dist 19 candidates \nMEMBERSHIP NOTES: A membership vote will be called immediately after the program to approve: \n\nANNUAL DUES INCREASE to $15 from the current $5 to fund the Republican Club’s 2022 operating and political activities. Cost increases over the past 3 years have almost eliminated any excess revenue that was received from the $20 dinner charge.\n\nELECTION OF OFFICERS
URL:https://gillespiecountygop.org/event/gc-republican-club-quarterly-dinner-5/
LOCATION:St. Joseph’s Halle\, 212 W. San Antonio St.\, Fredericksburg\, TX\, 78624\, United States
END:VEVENT
END:VCALENDAR