BEGIN:VCALENDAR
VERSION:2.0
PRODID:-//Gillespie County GOP - ECPv6.15.20//NONSGML v1.0//EN
CALSCALE:GREGORIAN
METHOD:PUBLISH
X-ORIGINAL-URL:https://gillespiecountygop.org
X-WR-CALDESC:Events for Gillespie County GOP
REFRESH-INTERVAL;VALUE=DURATION:PT1H
X-Robots-Tag:noindex
X-PUBLISHED-TTL:PT1H
BEGIN:VTIMEZONE
TZID:America/Chicago
BEGIN:DAYLIGHT
TZOFFSETFROM:-0600
TZOFFSETTO:-0500
TZNAME:CDT
DTSTART:20200308T080000
END:DAYLIGHT
BEGIN:STANDARD
TZOFFSETFROM:-0500
TZOFFSETTO:-0600
TZNAME:CST
DTSTART:20201101T070000
END:STANDARD
BEGIN:DAYLIGHT
TZOFFSETFROM:-0600
TZOFFSETTO:-0500
TZNAME:CDT
DTSTART:20210314T080000
END:DAYLIGHT
BEGIN:STANDARD
TZOFFSETFROM:-0500
TZOFFSETTO:-0600
TZNAME:CST
DTSTART:20211107T070000
END:STANDARD
BEGIN:DAYLIGHT
TZOFFSETFROM:-0600
TZOFFSETTO:-0500
TZNAME:CDT
DTSTART:20220313T080000
END:DAYLIGHT
BEGIN:STANDARD
TZOFFSETFROM:-0500
TZOFFSETTO:-0600
TZNAME:CST
DTSTART:20221106T070000
END:STANDARD
END:VTIMEZONE
BEGIN:VEVENT
DTSTART;TZID=America/Chicago:20210909T160000
DTEND;TZID=America/Chicago:20210909T173000
DTSTAMP:20260421T054708
CREATED:20210914T183652Z
LAST-MODIFIED:20210914T183707Z
UID:883-1631203200-1631208600@gillespiecountygop.org
SUMMARY:Gillespie County Republican Club Executive Committee
DESCRIPTION:A Gillespie County Republican Club Executive Committee meeting will be held at 4:00 PM\, Thursday\, September 9\, 2021\, at the Victory Fellowship Church\, 414 E. College.
URL:https://gillespiecountygop.org/event/gillespie-county-republican-club-executive-committee-3/
LOCATION:Victory Fellowship Church\, 414 E College St\, Fredericksburg\, TX\, 78624\, United States
END:VEVENT
END:VCALENDAR